BEGIN:VCALENDAR
VERSION:2.0
PRODID:-//DCNH e.V. Landesverband Mitte - ECPv6.15.20//NONSGML v1.0//EN
CALSCALE:GREGORIAN
METHOD:PUBLISH
X-WR-CALNAME:DCNH e.V. Landesverband Mitte
X-ORIGINAL-URL:https://lv-mitte.dcnh.de
X-WR-CALDESC:Veranstaltungen für DCNH e.V. Landesverband Mitte
REFRESH-INTERVAL;VALUE=DURATION:PT1H
X-Robots-Tag:noindex
X-PUBLISHED-TTL:PT1H
BEGIN:VTIMEZONE
TZID:Europe/Berlin
BEGIN:DAYLIGHT
TZOFFSETFROM:+0100
TZOFFSETTO:+0200
TZNAME:CEST
DTSTART:20240331T010000
END:DAYLIGHT
BEGIN:STANDARD
TZOFFSETFROM:+0200
TZOFFSETTO:+0100
TZNAME:CET
DTSTART:20241027T010000
END:STANDARD
BEGIN:DAYLIGHT
TZOFFSETFROM:+0100
TZOFFSETTO:+0200
TZNAME:CEST
DTSTART:20250330T010000
END:DAYLIGHT
BEGIN:STANDARD
TZOFFSETFROM:+0200
TZOFFSETTO:+0100
TZNAME:CET
DTSTART:20251026T010000
END:STANDARD
BEGIN:DAYLIGHT
TZOFFSETFROM:+0100
TZOFFSETTO:+0200
TZNAME:CEST
DTSTART:20260329T010000
END:DAYLIGHT
BEGIN:STANDARD
TZOFFSETFROM:+0200
TZOFFSETTO:+0100
TZNAME:CET
DTSTART:20261025T010000
END:STANDARD
END:VTIMEZONE
BEGIN:VEVENT
DTSTART;TZID=Europe/Berlin:20250426T000000
DTEND;TZID=Europe/Berlin:20250427T235959
DTSTAMP:20260422T122413
CREATED:20241018T104328Z
LAST-MODIFIED:20250605T133514Z
UID:1789-1745625600-1745798399@lv-mitte.dcnh.de
SUMMARY:24. Lahn-Dill-Schau
DESCRIPTION:  \n\n\n\n\n\n\n\n\nVeranstalter: \nDeutscher Club für Nordische Hunde e.V. LV Mitte im Auftrag des DCNH e.V.\nAkita Club e.V.\nAllgemeiner Chow-Chow Club e.V. LG Hessen\nKynologische Zuchtgemeinschaft Eurasier e.V.\nDeutscher Afghanen-Rassezuchtclub 1988 e. V.\n\n\n\n\n\n\n\n\n\n\nAusstellungsleitung:     Ute Berger\, Lasmecke 35\, 59821 Arnsberg\, Tel.: 02931 / 939047\, eMail: utberg@gmx.de \nSpezial-Rassehundeausstellung genehmigt und geschützt durch den VDH Dortmund. \n\n\n\nErgebnisse\n \n\n\nMeldestatistik\n \n \n\n\nZuchtrichter:\nAchtung! Richterwechsel wegen Erkrankung von ZR Regina Blessing (DE)\nSamstag\, 26. April 2025\n\n\n\nMarco Sistermann (DE)\nSchlittenhunde\, Hütehunde\, Jagdhunde\, Eurasier\, Afghanen\n\n\nEnrico Drudi (SM)\nChow-Chow\, Akita\, American Akita\, Asiaten\, Urtyp\n\n\n\nSonntag\, 27. April 2025\n\n\n\nMarie Josée Melchior-Schlechter (LU)\nChow-Chow\, Akita\, American Akita\, Asiaten\, Urtyp\n\n\nEnrico Drudi (SM)\nSchlittenhunde\, Hütehunde\, Jagdhunde\, Eurasier\, Afghanen\n\n\n\n  \n\n\n\nRingeinteilung\nSamstag 26. April\, Ring 1: Richter Marco Sistermann (DE)\n\n\n\n9:30 – 10:15\nSiberian Husky (9)\n\n\n10:15 – 10:45\nAlaskan Malamute (6)\n\n\n10:45 – 10:55\nGrönlandhund (2)\n\n\n10:55 – 12:00\nYakutskaya Laïka (1)\n\n\n12:00 – 12:30\nIslandhund (6)\n\n\n12:30 – 12:45\nLapinporokoïra (3)\n\n\n12:45 – 12:50\nSuomenlapinkoïra (1)\n\n\n12:50 – 13:10\nVästgötaspets (4)\n\n\n13:10 – 14:10\nMittagspause\n\n\n14:10 – 14:15\nLaïka (russisch-europäisch) (1)\n\n\n14:15 – 14:25\nLaïka (westsibirisch) (2)\n\n\n14:25 – 14:30\nNorwegischer Elchhund – grau (1)\n\n\n14:30 – 14:35\nNorwegischer Lundehund (1)\n\n\n14:35 – 14:45\nEurasier (2)\n\n\nab 14:45\nBest In Show KZG\n\n\nab 15:00\nWettbewerbe und Best In Show DCNH\n\n\n\nSamstag 26. April\, Ring 2: Richter Enrico Drudi (SM)\n\n\n\n9:30 – 9:40\nChow Chow – andersfarbig (2)\n\n\n9:40 – 10:05\nChow Chow – schwarz o. blau (5)\n\n\nanschl.\nBest in Show (ACC e.V.)\n\n\n10:05 – 11:45\nAkita (20)\n\n\n11:45 – 12:05\nAmerikanischer Akita (4)\n\n\nanschl.\nBest in Show (AC e.V.)\n\n\n12:05 – 12:10\nHokkaïdo (1)\n\n\n12:10 – 12:15\nKishu (1)\n\n\n12:15 – 13:15\nShiba (12)\n\n\n13:15 – 14:15\nMittagspause\n\n\n14:15 – 14:25\nShikoku (2)\n\n\n14:25 – 14:30\nCanaan Dog (1)\n\n\n\nSonntag 27. April\, Ring 1: Richterin Marie Josée Melchior-Schlechter (LU)\n\n\n\n9:30 – 9:40\nChow Chow – andersfarbig (2)\n\n\n9:40 – 10:00\nChow Chow – schwarz o. blau (4)\n\n\nanschl.\nBest in Show (ACC e.V.)\n\n\n10:00 – 11:10\nAkita (14)\n\n\n11:10 – 11:25\nAmerikanischer Akita (3)\n\n\nanschl.\nBest in Show (AC e.V.)\n\n\n11:25 – 11:30\nKai (1)\n\n\n11:30 – 11:35\nKishu (1)\n\n\n11:35 – 12:20\nShiba (9)\n\n\n12:20 – 13:20\nMittagspause\n\n\n13:20 – 13:35\nShikoku (3)\n\n\n13:35 – 13:40\nCanaan Dog (1)\n\n\n\nSonntag 27. April\, Ring 2: Richter Enrico Drudi (SM)\n\n\n\n9:30 – 10:20\nSiberian Husky (10)\n\n\n10:20 – 10:30\nAlaskan Malamute (2)\n\n\n10:30 – 10:35\nGrönlandhund (1)\n\n\n11:20 – 11:25\nYakutskaya Laïka (1)\n\n\n11:25 – 11:45\nIslandhund (4)\n\n\n11:45 – 12:00\nLapinporokoïra (3)\n\n\n12:00 – 12:05\nNorwegischer Lundehund (1)\n\n\n12:05 – 12:20\nSuomenlapinkoïra (3)\n\n\n12:20 – 12:30\nEurasier (2)\n\n\nanschl.\nBest in Show (KZG e.V.)\n\n\n12:30 – 13:30\nMittagspause\n\n\nab 14:00\nWettbewerbe und Best In Show (DCNH)\n\n\n\n  \n\n\n\nFür kurzfristigen Änderungen (Richter & Tageseinteilung) beachten Sie bitte unsere Homepage! \nWettbewerbe:           Best Baby * Best Puppy * Best Junior * Best Veteran * Best in Show \nZuchtgruppe\, Paarklasse\, Nachzuchtgruppe\, Baby-Klasse\, die Sieger erhalten einen Ehrenpreis \nMeldegebühr:            15\,00 Euro pro Wettbewerb und Tag\, Ausnahmen Baby-Klasse und Kind mit Hund 5\,00 Euro pro Wettbewerb und Tag. \nNachmeldungen sind am Ausstellungstag nicht möglich!  \n\n\n\n\nMeldegelder:  \nBaby-Klasse: \n\n\nbei Meldung bis zum 23.02.2025 \n\n\nbei Meldung bis zum 16.03.2025 \n\n\n\n\nJüngsten-Klasse \n\n\nalle anderen Klassen \n\n\nJüngsten-Klasse \n\n\nalle anderen Klassen \n\n\n\n\n5\,00 EURO \n\n\nFür den ersten Hund – pro Tag \n\n\n30\,00 EURO \n\n\n40\,00 EURO \n\n\n35\,00 EURO \n\n\n45\,00 EURO \n\n\n\n\n5\,00 EURO \n\n\nFür jeden weiteren Hund – pro Tag \n\n\n25\,00 EURO \n\n\n35\,00 EURO \n\n\n30\,00 EURO \n\n\n40\,00 EURO \n\n\n\n\nMeldegeldzahlung: Fällig bei Abgabe der Meldung. Die Zahlung der Meldegebühren hat in jedem Fall zu erfolgen\, auch wenn\, unbedeutend aus welchem Grund\, die Teilnahme unterbleibt. \n\n\n\n\nJeder Aussteller erhält eine Erinnerungsgabe\, eine Urkunde für jeden ausgestellten Hund\, sowie einen Katalog. Kann die Zuchtschau nicht abgehalten werden\, wird §29 der VDH-Ausstellungsordnung angewandt. \n\n\n\n\nDownload Flyer\n\n\n\n\nBankverbindung:      Kreissparkasse Köln  / Kontoinhaber: DCNH e.V.  \n                                   IBAN: DE64 3705 0299 0001 0520 99  BIC: COKSDE33 \n                                   BITTE DIE KONTOVERBINDUNG BEACHTEN!!! \nMeldungen an:             Rüdiger Rink\, Erdmannshäuserstr. 52\, 27252 Schwaförden\, Tel.: 04277 / 963173email: LahnDillSchau@dcnh-hessen.de oder online \nMeldeschluss:              erster: 23.02.2025 / zweiter (offizieller): 16.03.2025 – Eingang Schwaförden \nMeldebestätigung:       Sie erhalten im Anschluss an Ihre Online-Meldung eine Meldebestätigung wie Ihre Angaben bei uns gespeichert wurden. Weitere Informationen über den Ablauf der Veranstaltung erhalten Sie über die Homepage DCNH LV Mitte. \nWohnwagenplatz:          Sie können sich auf dem Zuchtschaugelände einen Standplatz für Wohnwagen o.ä. reservieren lassen. \nBitte mit gesonderter E-Mail unter LahnDillSchau@dcnh-hessen.de angeben. \nStandgebühr:                  10\,00 EURO pro Nacht/Fahrzeug! Anreise ab Freitag Mittag – Abreise Sonntag! Zahlung mit der Meldegeldzahlung. KEIN EINZUG MÖGLICH! \nTageseinteilung:             Beginn des Richtens ab  ca. 9 Uhr\, Einlass ab 7:30 Uhr. \nReihenfolge d. Richtens: Veteranenklasse ab 8 Jahre\, Babyklasse 4-6 Monate\, Jüngsten-Klasse 6-9 Monate\, Jugend-Klasse 9-18 Monate\, Zwischen-Klasse 15-24 Monate\, Champion-Klasse ab 15 Monate\, Gebrauchshunde-Klasse ab 15 Monate\, Offene Klasse ab 15 Monate               \nTitel\, Titelanwartschaften und Formwertnoten:               Es besteht kein Rechtsanspruch auf Titel\, Titelanwartschaften und Formwert-noten. \nBewertung:                      „Vorzüglich“\, „Sehr gut“\, „Gut“\, „Genügend“\, „Disqualifiziert“ \nin der Jüngsten-Klasse: „vielversprechend“\, „versprechend“\, „wenig-versprechend“ \nWichtiger Hinweise:     Alle Aussteller erkennen mit ihrer Meldung die aktuelle VDH- und DCNH-Ausstellungsordnung an. \n\n\n\nVeterinärbestimmungen\nVorgaben bzgl. Tollwut:\nDie Zuführung aller Hunde wird amtstierärztlich überwacht. Hunde\, die auf das Veranstaltungsgelände gebracht werden sollen\, müssen nachweislich gegen die Tollwut geimpft worden sein\, so dass von einem belastbaren Tollwutimpfschutz ausgegangen werden kann. Von einem belastbaren Impfschutz ist auszugehen\, wenn \n\ndie Hunde zum Zeitpunkt der Impfung mindestens 3 Monate alt waren\,\nseit der Erst-Impfung mindestens 21 Tage vergangen sind oder im Falle einer Wiederholungsimpfung die Impfung innerhalb des Zeitraumes durchgeführt wurde\, den der Impfstoffhersteller für eine Wiederholungsimpfung angibt und\ndie letzte Tollwutschutzimpfung längstens um den Zeitraum zurückliegt\, den der Impfstoffhersteller für eine Wiederholungsimpfung angibt (die Gültigkeitsdauer ist abhängig von den Zulassungsbestimmungen des Herkunftslandes und beträgt für die meisten in Deutschland und vielen anderen Staaten zugelassenen Impfstoffe 3 Jahre).\n\nDer Nachweis der Impfung ist durch eine tierärztliche Bescheinigung (Impfausweis) zu erbringen\, aus der folgende Angaben hervorgehen müssen: Name und Anschrift des Tierbesitzers\, Rasse\, Geschlecht und Alter des Tieres sowie Farbe\, Art und Zeichnung des Felles. Datum der Impfung sowie Art\, Hersteller und Kontrollnummer des verwendeten Impfstoffes. \n\n\n\n\nWichtiger Hinweis zur Anreise:\nDer gesperrte Weg aus Richtung Wiesbaden darf auf keinen Fall befahren werden. Die Anfahrt zum Platz ist nur gestattet über Limbach und dann am Friedhof einbiegen.
URL:https://lv-mitte.dcnh.de/event/24-lahn-dill-schau/
LOCATION:Windhundarena Hünstetten\, Am Hümes\, Hünstetten\, 65510\, Germany
CATEGORIES:Ausstellung
ATTACH;FMTTYPE=image/jpeg:https://lv-mitte.dcnh.de/wordpress/wp-content/uploads/2023/10/20230430_LDS_BIS-DCNH.jpg
END:VEVENT
END:VCALENDAR