BEGIN:VCALENDAR
VERSION:2.0
PRODID:-//DCNH e.V. Landesverband Mitte - ECPv6.15.20//NONSGML v1.0//EN
CALSCALE:GREGORIAN
METHOD:PUBLISH
X-ORIGINAL-URL:https://lv-mitte.dcnh.de
X-WR-CALDESC:Veranstaltungen für DCNH e.V. Landesverband Mitte
REFRESH-INTERVAL;VALUE=DURATION:PT1H
X-Robots-Tag:noindex
X-PUBLISHED-TTL:PT1H
BEGIN:VTIMEZONE
TZID:Europe/Berlin
BEGIN:DAYLIGHT
TZOFFSETFROM:+0100
TZOFFSETTO:+0200
TZNAME:CEST
DTSTART:20190331T010000
END:DAYLIGHT
BEGIN:STANDARD
TZOFFSETFROM:+0200
TZOFFSETTO:+0100
TZNAME:CET
DTSTART:20191027T010000
END:STANDARD
BEGIN:DAYLIGHT
TZOFFSETFROM:+0100
TZOFFSETTO:+0200
TZNAME:CEST
DTSTART:20200329T010000
END:DAYLIGHT
BEGIN:STANDARD
TZOFFSETFROM:+0200
TZOFFSETTO:+0100
TZNAME:CET
DTSTART:20201025T010000
END:STANDARD
BEGIN:DAYLIGHT
TZOFFSETFROM:+0100
TZOFFSETTO:+0200
TZNAME:CEST
DTSTART:20210328T010000
END:DAYLIGHT
BEGIN:STANDARD
TZOFFSETFROM:+0200
TZOFFSETTO:+0100
TZNAME:CET
DTSTART:20211031T010000
END:STANDARD
END:VTIMEZONE
BEGIN:VEVENT
DTSTART;VALUE=DATE:20201017
DTEND;VALUE=DATE:20201018
DTSTAMP:20260423T142553
CREATED:20200912T144307Z
LAST-MODIFIED:20200912T144307Z
UID:633-1602892800-1602979199@lv-mitte.dcnh.de
SUMMARY:Zuchtzulassung 10/2020 in Einbeck-Volksen
DESCRIPTION:Am Samstag\, den 17.10.2020\, bieten wir in 37574 Einbeck-Volksen eine Zuchtzulassung an. \nAls Zuchtzulassungsberechtigter wird uns Herr Volker Schön (DE) unterstützen. \nAnmeldungen mit den entsprechenden Unterlagen vollständig bis zum 02.10.2020 an: \nFrank Raue\nMail: raue.dcnh[at]gmx.de \nDie Gebühren der Zuchtzulassung sind lt. Gebührenordnung rechtzeitig im Voraus auf das Konto des DCNH e.V. zu Händen der Zuchtbuchstelle zu überweisen: \nKreissparkasse Köln\nIBAN DE12 3705 0299 0001 0040 50\nBIC COKSDE33 \nVor Ort findet keine Augenuntersuchung statt!
URL:https://lv-mitte.dcnh.de/event/zuchtzulassung-10-2020-in-einbeck-volksen/
LOCATION:Frank Raue\, Am Clusberg 10\, Einbeck-Volksen\, 37574\, Deutschland
CATEGORIES:Zuchtzulassung
ATTACH;FMTTYPE=image/jpeg:https://lv-mitte.dcnh.de/wordpress/wp-content/uploads/2020/05/Header_ZZLMai2020.jpg
END:VEVENT
END:VCALENDAR