BEGIN:VCALENDAR
VERSION:2.0
PRODID:-//DCNH e.V. Landesverband Mitte - ECPv6.15.20//NONSGML v1.0//EN
CALSCALE:GREGORIAN
METHOD:PUBLISH
X-ORIGINAL-URL:https://lv-mitte.dcnh.de
X-WR-CALDESC:Veranstaltungen für DCNH e.V. Landesverband Mitte
REFRESH-INTERVAL;VALUE=DURATION:PT1H
X-Robots-Tag:noindex
X-PUBLISHED-TTL:PT1H
BEGIN:VTIMEZONE
TZID:Europe/Berlin
BEGIN:DAYLIGHT
TZOFFSETFROM:+0100
TZOFFSETTO:+0200
TZNAME:CEST
DTSTART:20210328T010000
END:DAYLIGHT
BEGIN:STANDARD
TZOFFSETFROM:+0200
TZOFFSETTO:+0100
TZNAME:CET
DTSTART:20211031T010000
END:STANDARD
BEGIN:DAYLIGHT
TZOFFSETFROM:+0100
TZOFFSETTO:+0200
TZNAME:CEST
DTSTART:20220327T010000
END:DAYLIGHT
BEGIN:STANDARD
TZOFFSETFROM:+0200
TZOFFSETTO:+0100
TZNAME:CET
DTSTART:20221030T010000
END:STANDARD
BEGIN:DAYLIGHT
TZOFFSETFROM:+0100
TZOFFSETTO:+0200
TZNAME:CEST
DTSTART:20230326T010000
END:DAYLIGHT
BEGIN:STANDARD
TZOFFSETFROM:+0200
TZOFFSETTO:+0100
TZNAME:CET
DTSTART:20231029T010000
END:STANDARD
END:VTIMEZONE
BEGIN:VEVENT
DTSTART;VALUE=DATE:20220115
DTEND;VALUE=DATE:20220116
DTSTAMP:20260422T172724
CREATED:20211109T162451Z
LAST-MODIFIED:20211110T125025Z
UID:1127-1642204800-1642291199@lv-mitte.dcnh.de
SUMMARY:Zuchtzulassung Januar 2022 in Schwaförden
DESCRIPTION:Das neue Jahr starten wir direkt mit einer Zuchtzulassung. Wir haben Frau Gabriela Richard-Steinbach als Zuchtzulassungsberechtigte gewinnen können. \nDie Zuchtzulassung findet im Norden des LV Mitte statt. Die Adresse lautet: \n27252 Schwaförden\, Erdmannshäuser Straße 52. \n\n\n	ZZL 15.01.2022	(627 Downloads	)\n\n\n\nAuf dieser Homepage veröffentlichen wir kurzfristig die tagaktuellen Pandemieauflagen und werden auch per Mail alle angemeldeten Züchter informieren. \nDamit wir die Termine/Zeiten planen können\, melden Sie sich bitte unbedingt bis zum 02.01.2022 mit den nötigen Unterlagen (Ahnentafel\, AU und HD-Ergebnissen) per Mail Ruediger.Rink@t-online.de an. \nFür weitere Fragen melden Sie sich gern bei: \nRüdiger Rink\nErdmannshäuer Str.52\n27252 Schwaförden\nTelefon: 04277 – 963173\nMail: Ruediger.Rink@t-online.de \nDie Gebühren der Zuchtzulassung sind lt. Gebührenordnung rechtzeitig im Voraus auf das Konto des DCNH e.V. zu Händen der Zuchtbuchstelle zu überweisen:\nKreissparkasse Köln\nIBAN DE12 3705 0299 0001 0040 50\nBIC COKSDE33 \nEs findet vor Ort keine Augenuntersuchung statt!
URL:https://lv-mitte.dcnh.de/event/zuchtzulassung-januar-2022-in-schwafoerden/
LOCATION:Of The Fiery Crusader’s\, Rüdiger und Nicola Rink\, Erdmannshäuser Straße 52\, Schwaförden\, Niedersachsen\, 27252\, Deutschland
CATEGORIES:Zuchtzulassung
ATTACH;FMTTYPE=image/jpeg:https://lv-mitte.dcnh.de/wordpress/wp-content/uploads/2021/11/20200531-ZZL_LV-Mitte_03.jpg
END:VEVENT
END:VCALENDAR