BEGIN:VCALENDAR
VERSION:2.0
PRODID:-//DCNH e.V. Landesverband Mitte - ECPv6.15.20//NONSGML v1.0//EN
CALSCALE:GREGORIAN
METHOD:PUBLISH
X-WR-CALNAME:DCNH e.V. Landesverband Mitte
X-ORIGINAL-URL:https://lv-mitte.dcnh.de
X-WR-CALDESC:Veranstaltungen für DCNH e.V. Landesverband Mitte
REFRESH-INTERVAL;VALUE=DURATION:PT1H
X-Robots-Tag:noindex
X-PUBLISHED-TTL:PT1H
BEGIN:VTIMEZONE
TZID:Europe/Berlin
BEGIN:DAYLIGHT
TZOFFSETFROM:+0100
TZOFFSETTO:+0200
TZNAME:CEST
DTSTART:20220327T010000
END:DAYLIGHT
BEGIN:STANDARD
TZOFFSETFROM:+0200
TZOFFSETTO:+0100
TZNAME:CET
DTSTART:20221030T010000
END:STANDARD
BEGIN:DAYLIGHT
TZOFFSETFROM:+0100
TZOFFSETTO:+0200
TZNAME:CEST
DTSTART:20230326T010000
END:DAYLIGHT
BEGIN:STANDARD
TZOFFSETFROM:+0200
TZOFFSETTO:+0100
TZNAME:CET
DTSTART:20231029T010000
END:STANDARD
BEGIN:DAYLIGHT
TZOFFSETFROM:+0100
TZOFFSETTO:+0200
TZNAME:CEST
DTSTART:20240331T010000
END:DAYLIGHT
BEGIN:STANDARD
TZOFFSETFROM:+0200
TZOFFSETTO:+0100
TZNAME:CET
DTSTART:20241027T010000
END:STANDARD
END:VTIMEZONE
BEGIN:VEVENT
DTSTART;VALUE=DATE:20230114
DTEND;VALUE=DATE:20230115
DTSTAMP:20260422T003254
CREATED:20221019T090602Z
LAST-MODIFIED:20230510T123824Z
UID:1399-1673654400-1673740799@lv-mitte.dcnh.de
SUMMARY:Zuchtzulassung Januar 2023
DESCRIPTION:Das neue Jahr starten wir erneut mit einer Zuchtzulassung am 14. Januar 2023 \nWir konnten Frau Gabriela Richard-Steinbach wieder als Zuchtzulassungsberechtigte gewinnen. \nDie Zuchtzulassung findet im geographischen Norden des LV Mitte statt. Die Adresse lautet: \nErdmannshäuser Straße 5227252 Schwaförden \nWir werden die tagaktuellen Auflagen hier rechtzeitig veröffentlichen und alle angemeldeten Züchter auch per E-Mail darüber informieren. \nDamit wir die Termine/Zeiten planen können\, melden Sie sich bitte unbedingt bis zum 24.12.2022 mit den nötigen Unterlagen (Ahnentafel\, AU und HD-Ergebnissen) per Mail Ruediger.Rink@t-online.de an. \nFür weitere Fragen melden Sie sich gern bei: \nRüdiger RinkErdmannshäuer Str.5227252 SchwafördenTelefon: 04277 – 963173E-Mail: Ruediger.Rink@t-online.de \nDie Gebühren der Zuchtzulassung sind lt. Gebührenordnung rechtzeitig im Voraus auf das Konto des DCNH e.V. zu Händen der Zuchtbuchstelle zu überweisen: \nKreissparkasse KölnIBAN DE12 3705 0299 0001 0040 50BIC COKSDE33 \nEs findet vor Ort keine Augenuntersuchung statt!
URL:https://lv-mitte.dcnh.de/event/zuchtzulassung-januar-2023/
LOCATION:Of The Fiery Crusader’s\, Rüdiger und Nicola Rink\, Erdmannshäuser Straße 52\, Schwaförden\, Niedersachsen\, 27252\, Deutschland
CATEGORIES:Zuchtzulassung
END:VEVENT
END:VCALENDAR