BEGIN:VCALENDAR
VERSION:2.0
PRODID:-//DCNH e.V. Landesverband Mitte - ECPv6.15.20//NONSGML v1.0//EN
CALSCALE:GREGORIAN
METHOD:PUBLISH
X-ORIGINAL-URL:https://lv-mitte.dcnh.de
X-WR-CALDESC:Veranstaltungen für DCNH e.V. Landesverband Mitte
REFRESH-INTERVAL;VALUE=DURATION:PT1H
X-Robots-Tag:noindex
X-PUBLISHED-TTL:PT1H
BEGIN:VTIMEZONE
TZID:Europe/Berlin
BEGIN:DAYLIGHT
TZOFFSETFROM:+0100
TZOFFSETTO:+0200
TZNAME:CEST
DTSTART:20220327T010000
END:DAYLIGHT
BEGIN:STANDARD
TZOFFSETFROM:+0200
TZOFFSETTO:+0100
TZNAME:CET
DTSTART:20221030T010000
END:STANDARD
BEGIN:DAYLIGHT
TZOFFSETFROM:+0100
TZOFFSETTO:+0200
TZNAME:CEST
DTSTART:20230326T010000
END:DAYLIGHT
BEGIN:STANDARD
TZOFFSETFROM:+0200
TZOFFSETTO:+0100
TZNAME:CET
DTSTART:20231029T010000
END:STANDARD
BEGIN:DAYLIGHT
TZOFFSETFROM:+0100
TZOFFSETTO:+0200
TZNAME:CEST
DTSTART:20240331T010000
END:DAYLIGHT
BEGIN:STANDARD
TZOFFSETFROM:+0200
TZOFFSETTO:+0100
TZNAME:CET
DTSTART:20241027T010000
END:STANDARD
END:VTIMEZONE
BEGIN:VEVENT
DTSTART;TZID=Europe/Berlin:20231008T090000
DTEND;TZID=Europe/Berlin:20231008T170000
DTSTAMP:20260421T123707
CREATED:20230410T083915Z
LAST-MODIFIED:20230410T123813Z
UID:1512-1696755600-1696784400@lv-mitte.dcnh.de
SUMMARY:Zuchtzulassung in Franken 2023
DESCRIPTION:Als zuchtzulassungsberechtigte Zuchtrichterin ist Ursula Meyer (DE) tätig. \nAnmeldungen postalisch bis 22.09.2023 an:Patricia SteigerZum Goggerturm 1892345 Dietfurt \nOder per E-Mail. \nDie ZZL-Gebühren sind laut Gebührenordnung Zucht im Voraus auf das Konto des DCNH e.V. zu entrichten.Kreissparkasse Köln DE12 3705 0299 0001 0040 50 BIC COKSDE33XXX \nVor Ort findet keine Augenuntersuchung statt!!\nGebühr und benötigte Unterlagen:\nDie reguläre ZZL Gebühr beträgt derzeit 40\,00€. Für Hunde aus dem Ausland\, die ins Zuchtbuch übernommen werden\, beträgt die zusätzliche Gebühr derzeit 45\,00€. \nFür Nicht-Mitglieder ist die doppelte Gebühr zu entrichten. Für fehlende Unterlagen sind die Gebühren in der Gebührenordnung zu entnehmen. \nFolgende Unterlagen werden benötigt:\nAhnentafel original\, HD Gutachten\, AU Befund und falls benötigt Rassespezifische Untersuchungen in Kopie. \n»» \n	Ausschreibung ZZL Dietfurt Herbst 2023	(488 Downloads	)\n\n ««
URL:https://lv-mitte.dcnh.de/event/zuchtzulassung-in-franken-2023/
LOCATION:Ferstl Natursteinhandel\, Industriestraße 34\, Dietfurt\, Bayern\, 92345\, Germany
CATEGORIES:Zuchtzulassung
ATTACH;FMTTYPE=image/jpeg:https://lv-mitte.dcnh.de/wordpress/wp-content/uploads/2021/11/20210807_ZZL-Wetzlar_Titel.jpg
ORGANIZER;CN="Patricia Steiger":MAILTO:huskykennel@of-snow-wolf-valley.de
END:VEVENT
END:VCALENDAR